BEGIN:VCALENDAR
PRODID:PlannerXE123
VERSION:2.0
CALSCALE:GREGORIAN
METHOD:PUBLISH
BEGIN:VEVENT
DTSTART:20200524
DTEND:20200525
DTSTAMP:20260421T235132Z
UID:(www.bigbirdpara.co.kr_224825)
CREATED:20260421T235132Z
DESCRIPTION:* 기상제원 - 날씨 : 구름 많음(강수확률 20%) - 풍향/풍속 : 남서/2~4(m/s) - 기온 : 14~27도 - 습도 : 45% * 강풍과 비 예보가 있어 불가하여 취소합니다. * 기상 변동으로 비행 가능 시 별도로 통보 할 예정입니다.\n\n<a href="http://www.bigbirdpara.co.kr/plan_b/224825?iCal=ics_event&document_srl=224825">원본일정</a>
LOCATION:
SEQUENCE:1
STATUS:CONFIRMED
SUMMARY:일요비행
TRANSP:TRANSPARENT
END:VEVENT
END:VCALENDAR
